BEGIN:VCALENDAR
VERSION:2.0
PRODID:-//Unicapital Inc. - ECPv6.11.2//NONSGML v1.0//EN
CALSCALE:GREGORIAN
METHOD:PUBLISH
X-WR-CALNAME:Unicapital Inc.
X-ORIGINAL-URL:https://unicapital-inc.com
X-WR-CALDESC:Events for Unicapital Inc.
REFRESH-INTERVAL;VALUE=DURATION:PT1H
X-Robots-Tag:noindex
X-PUBLISHED-TTL:PT1H
BEGIN:VTIMEZONE
TZID:Asia/Manila
BEGIN:STANDARD
TZOFFSETFROM:+0800
TZOFFSETTO:+0800
TZNAME:PST
DTSTART:20260101T000000
END:STANDARD
END:VTIMEZONE
BEGIN:VEVENT
DTSTART;TZID=Asia/Manila:20260421T190000
DTEND;TZID=Asia/Manila:20260421T203000
DTSTAMP:20260421T184618
CREATED:20260324T021906Z
LAST-MODIFIED:20260324T021941Z
UID:13210-1776798000-1776803400@unicapital-inc.com
SUMMARY:Investor's Toolkit: How to Pick Winning Stocks
DESCRIPTION:📈 Ready to build your winning portfolio? \nJoin us for our FREE webinar\, “Investor’s Toolkit: How to Pick Winning Stocks\,” and learn how to make smarter investment decisions using both Fundamental Analysis and Technical Analysis. \nDiscover how to evaluate a company’s true value\, read market trends\, and combine these powerful strategies to confidently choose the right stocks. Whether you’re a beginner or looking to sharpen your skills\, this session is designed to help you invest with clarity and confidence. \nSecure your spot today and start investing smarter! 💼✨
URL:https://unicapital-inc.com/event/investors-toolkit-how-to-pick-winning-stocks-24/
LOCATION:Live on Zoom
ATTACH;FMTTYPE=image/png:https://unicapital-inc.com/wp-content/uploads/2025/02/Investors-Toolkit-Banner-No-Date.png
ORGANIZER;CN="UTrade by Unicapital Securities Inc.":MAILTO:utrade@unicapital-inc.com
END:VEVENT
END:VCALENDAR