BEGIN:VCALENDAR
VERSION:2.0
PRODID:-//Unicapital Inc. - ECPv6.11.2//NONSGML v1.0//EN
CALSCALE:GREGORIAN
METHOD:PUBLISH
X-WR-CALNAME:Unicapital Inc.
X-ORIGINAL-URL:https://unicapital-inc.com
X-WR-CALDESC:Events for Unicapital Inc.
REFRESH-INTERVAL;VALUE=DURATION:PT1H
X-Robots-Tag:noindex
X-PUBLISHED-TTL:PT1H
BEGIN:VTIMEZONE
TZID:Asia/Manila
BEGIN:STANDARD
TZOFFSETFROM:+0800
TZOFFSETTO:+0800
TZNAME:PST
DTSTART:20240101T000000
END:STANDARD
END:VTIMEZONE
BEGIN:VEVENT
DTSTART;TZID=Asia/Manila:20240713T090000
DTEND;TZID=Asia/Manila:20240713T120000
DTSTAMP:20260421T181914
CREATED:20240703T014933Z
LAST-MODIFIED:20240703T015003Z
UID:11486-1720861200-1720872000@unicapital-inc.com
SUMMARY:Invest in U: Iloilo Roadshow
DESCRIPTION:Kickstart your stock investing journey by learning the basics from UTrade’s Equities Investment Adviser\, Geyzson Kristoffer! \nGeyzson is a PSE Certified Securities Specialist who was part of the Investacup 2021 Top 5\, as well as a 2-time Trading League Champion and 2-time Millionaires Cup Winner.\n\n\nLearn the following in this special live event:\n1. Introduction to the stock market\n2. Value of stock investing\n3. Ways to earn in the stock market\n4. How to open a UTrade account\n5. How to use the UTrade platform\n\n\nIf you register before June 28\, you can avail the early bird promo of only P200 registration fee!\n\n\nRegular Registration Fee: P300\n\n\nLight snacks and overflowing coffee will be served together with these valuable learnings.\n\n\nReserve your slot now through this link: https://forms.gle/zBukyb6sL9kzsa4r8
URL:https://unicapital-inc.com/event/invest-in-u-iloilo-roadshow-2/
LOCATION:Seda Atria Hotel\, Iloilo City
ATTACH;FMTTYPE=image/png:https://unicapital-inc.com/wp-content/uploads/2024/07/Iloilo-Event-Poster-1.png
ORGANIZER;CN="UTrade by Unicapital Securities Inc.":MAILTO:utrade@unicapital-inc.com
END:VEVENT
BEGIN:VEVENT
DTSTART;TZID=Asia/Manila:20240718T180000
DTEND;TZID=Asia/Manila:20240718T193000
DTSTAMP:20260421T181914
CREATED:20240703T015442Z
LAST-MODIFIED:20240703T015442Z
UID:11492-1721325600-1721331000@unicapital-inc.com
SUMMARY:Invest in U: Learn the Basics of Stock Investing
DESCRIPTION:It’s never too late to start investing! Make your money work for you by start learning how to invest in the stock market today. \nThings you will learn:\n– Introduction to the stock market\n– Value of stock investing\n– Ways to earn in the stock market\n– How to open an account with UTrade?\n– Basic UTrade Platform walkthrough \nTake advantage of the live Q&A session to be guided on starting your stock investing journey! \nSee you there! \nRegister now!
URL:https://unicapital-inc.com/event/invest-in-u-learn-the-basics-of-stock-investing-4/
LOCATION:Live on Zoom
ATTACH;FMTTYPE=image/png:https://unicapital-inc.com/wp-content/uploads/2024/07/INVEST-IN-U-Banner.png
ORGANIZER;CN="UTrade by Unicapital Securities Inc.":MAILTO:utrade@unicapital-inc.com
END:VEVENT
BEGIN:VEVENT
DTSTART;TZID=Asia/Manila:20240725T190000
DTEND;TZID=Asia/Manila:20240725T203000
DTSTAMP:20260421T181914
CREATED:20240703T015532Z
LAST-MODIFIED:20240703T015532Z
UID:11491-1721934000-1721939400@unicapital-inc.com
SUMMARY:Investor's Toolkit: How to Pick Winning Stocks
DESCRIPTION:🚀 Level up your investment game! \nLearn how to leverage both fundamental and technical analysis techniques to navigate the market like a pro. Join our free webinar to learn how to pick WINNING STOCKS in the stock market. \nSee you there! \nRegister now.
URL:https://unicapital-inc.com/event/investors-toolkit-how-to-pick-winning-stocks-4/
LOCATION:Live on Zoom
ATTACH;FMTTYPE=image/png:https://unicapital-inc.com/wp-content/uploads/2024/07/Investors-Toolkit-Banner.png
ORGANIZER;CN="UTrade by Unicapital Securities Inc.":MAILTO:utrade@unicapital-inc.com
END:VEVENT
END:VCALENDAR